BEGIN:VCALENDAR
VERSION:2.0
PRODID:-//NAHQ - ECPv6.15.20//NONSGML v1.0//EN
CALSCALE:GREGORIAN
METHOD:PUBLISH
X-ORIGINAL-URL:https://nahq.org
X-WR-CALDESC:Events for NAHQ
REFRESH-INTERVAL;VALUE=DURATION:PT1H
X-Robots-Tag:noindex
X-PUBLISHED-TTL:PT1H
BEGIN:VTIMEZONE
TZID:America/Chicago
BEGIN:DAYLIGHT
TZOFFSETFROM:-0600
TZOFFSETTO:-0500
TZNAME:CDT
DTSTART:20240310T080000
END:DAYLIGHT
BEGIN:STANDARD
TZOFFSETFROM:-0500
TZOFFSETTO:-0600
TZNAME:CST
DTSTART:20241103T070000
END:STANDARD
BEGIN:DAYLIGHT
TZOFFSETFROM:-0600
TZOFFSETTO:-0500
TZNAME:CDT
DTSTART:20250309T080000
END:DAYLIGHT
BEGIN:STANDARD
TZOFFSETFROM:-0500
TZOFFSETTO:-0600
TZNAME:CST
DTSTART:20251102T070000
END:STANDARD
BEGIN:DAYLIGHT
TZOFFSETFROM:-0600
TZOFFSETTO:-0500
TZNAME:CDT
DTSTART:20260308T080000
END:DAYLIGHT
BEGIN:STANDARD
TZOFFSETFROM:-0500
TZOFFSETTO:-0600
TZNAME:CST
DTSTART:20261101T070000
END:STANDARD
END:VTIMEZONE
BEGIN:VEVENT
DTSTART;TZID=America/Chicago:20251106T110000
DTEND;TZID=America/Chicago:20251107T173000
DTSTAMP:20260423T233852
CREATED:20250910T184945Z
LAST-MODIFIED:20250925T210611Z
UID:10000076-1762426800-1762536600@nahq.org
SUMMARY:OrAHQ | CPHQ Review Course
DESCRIPTION:This is a review session for healthcare quality professionals who are preparing for the Certified Professional in Healthcare Quality (CPHQ) exam\, or who want to expand their existing quality management skills. Attendees will be able to identify areas within the CPHQ certification content outline where they are strong in their knowledge and where they are weak\, and thus require further study\, knowledge\, and/or experience prior to taking the CPHQ certification exam.
URL:https://nahq.org/event/orahq-cphq-review-course/
END:VEVENT
END:VCALENDAR