BEGIN:VCALENDAR
VERSION:2.0
PRODID:-//NAHQ - ECPv6.15.20//NONSGML v1.0//EN
CALSCALE:GREGORIAN
METHOD:PUBLISH
X-WR-CALNAME:NAHQ
X-ORIGINAL-URL:https://nahq.org
X-WR-CALDESC:Events for NAHQ
REFRESH-INTERVAL;VALUE=DURATION:PT1H
X-Robots-Tag:noindex
X-PUBLISHED-TTL:PT1H
BEGIN:VTIMEZONE
TZID:America/Chicago
BEGIN:DAYLIGHT
TZOFFSETFROM:-0600
TZOFFSETTO:-0500
TZNAME:CDT
DTSTART:20250309T080000
END:DAYLIGHT
BEGIN:STANDARD
TZOFFSETFROM:-0500
TZOFFSETTO:-0600
TZNAME:CST
DTSTART:20251102T070000
END:STANDARD
BEGIN:DAYLIGHT
TZOFFSETFROM:-0600
TZOFFSETTO:-0500
TZNAME:CDT
DTSTART:20260308T080000
END:DAYLIGHT
BEGIN:STANDARD
TZOFFSETFROM:-0500
TZOFFSETTO:-0600
TZNAME:CST
DTSTART:20261101T070000
END:STANDARD
BEGIN:DAYLIGHT
TZOFFSETFROM:-0600
TZOFFSETTO:-0500
TZNAME:CDT
DTSTART:20270314T080000
END:DAYLIGHT
BEGIN:STANDARD
TZOFFSETFROM:-0500
TZOFFSETTO:-0600
TZNAME:CST
DTSTART:20271107T070000
END:STANDARD
END:VTIMEZONE
BEGIN:VEVENT
DTSTART;TZID=America/Chicago:20260508T090000
DTEND;TZID=America/Chicago:20260523T110000
DTSTAMP:20260422T162444
CREATED:20260324T230223Z
LAST-MODIFIED:20260413T152435Z
UID:10000093-1778230800-1779534000@nahq.org
SUMMARY:May 2026 CPHQ Prep Virtual Class
DESCRIPTION:NAHQ’s instructor led CPHQ Prep Virtual Course connects you with expert instructors in an online classroom setting and is designed to support those planning to take the Certified Professional in Healthcare Quality® (CPHQ) Certification Examination. Based on the current CPHQ content outline\, this course provides a review of essential healthcare quality concepts and offers valuable tips on how to best prepare for the exam. Courses include interactive lectures\, quizzing\, live Q&A\, and inter-session activities\, all focused on building your knowledge of the CPHQ content areas and helping you get ready for the exam. Note that session recordings are not included with course materials; please plan to prioritize attendance for all sessions. \nSchedule \nThe times shown below are in Central time. Please use this helpful time zone converter (https://www.thetimezoneconverter.com) to see when sessions will start and end for you. \nMay 8– course introduction and platform walk through: 9AM-11AM \nMay 11-15 – classroom sessions: 9AM-11AM \nMay 18-23 – classroom sessions: 9AM-11AM
URL:https://nahq.org/event/may-2026-cphq-prep-virtual-class/
ATTACH;FMTTYPE=image/png:https://cdn.nahq.org/wp-content/uploads/2021/09/Catalog_CPHQ_prep_180x180.png
END:VEVENT
BEGIN:VEVENT
DTSTART;TZID=America/Chicago:20260520T120000
DTEND;TZID=America/Chicago:20260520T130000
DTSTAMP:20260422T162444
CREATED:20260330T160730Z
LAST-MODIFIED:20260406T085457Z
UID:10000095-1779278400-1779282000@nahq.org
SUMMARY:Evolving Healthcare Landscape: Key Trends and Implications for Quality & Safety
DESCRIPTION:Speaker: \nJosh Berlin\, JD \nChief Executive Officer\, rule of three\, LLC \nHealthcare organizations are facing a convergence of increased pressures—margin expectations\, workforce instability\, digital transformation and AI adoption; care delivery fragmentation; shifting regulatory expectations and reimbursement models; all while continuing to improve patient care. Join Josh Berlin\, CEO rule of three\, for the 2nd webinar in our two-part series. We will explore these industry macro trends and crosswalk them to the NAHQ Healthcare Quality Competency Framework. Join us to learn how to translate disruption into practical focus areas for Quality & Safety leadership. Offers 1 CPHQ CE credit.
URL:https://nahq.org/event/evolving-healthcare-landscape-key-trends-and-implications-for-quality-safety/
ATTACH;FMTTYPE=image/png:https://cdn.nahq.org/wp-content/uploads/2021/08/Catalog_NAHQ_Learning_Lab_180x180.png
END:VEVENT
BEGIN:VEVENT
DTSTART;TZID=America/Chicago:20260520T140000
DTEND;TZID=America/Chicago:20260520T153000
DTSTAMP:20260422T162444
CREATED:20251208T001804Z
LAST-MODIFIED:20251219T174249Z
UID:10000085-1779285600-1779291000@nahq.org
SUMMARY:OrAHQ | Ethics and Compliance of AI Use in Healthcare Settings Part III
DESCRIPTION:This is the last webinar in a 3-part series addressing the role of Ethics and Compliance when considering the use of AI in a healthcare setting. Part III will discuss protective measures and risk mitigation strategies if choosing to use AI in your healthcare organization. Cost is free to members of the following organizations: MAHQ\, OrAHQ\, AZAHQ\, NEAHQ\, OAHQ\, UAHQ\, TGCAHQ\, NCAHQ\, FAHQ; $25 for all others.
URL:https://nahq.org/event/ethics-and-compliance-of-ai-use-in-healthcare-settings-part-iii/
END:VEVENT
END:VCALENDAR