BEGIN:VCALENDAR
VERSION:2.0
PRODID:-//NAHQ - ECPv6.15.20//NONSGML v1.0//EN
CALSCALE:GREGORIAN
METHOD:PUBLISH
X-WR-CALNAME:NAHQ
X-ORIGINAL-URL:https://nahq.org
X-WR-CALDESC:Events for NAHQ
REFRESH-INTERVAL;VALUE=DURATION:PT1H
X-Robots-Tag:noindex
X-PUBLISHED-TTL:PT1H
BEGIN:VTIMEZONE
TZID:America/Chicago
BEGIN:DAYLIGHT
TZOFFSETFROM:-0600
TZOFFSETTO:-0500
TZNAME:CDT
DTSTART:20250309T080000
END:DAYLIGHT
BEGIN:STANDARD
TZOFFSETFROM:-0500
TZOFFSETTO:-0600
TZNAME:CST
DTSTART:20251102T070000
END:STANDARD
BEGIN:DAYLIGHT
TZOFFSETFROM:-0600
TZOFFSETTO:-0500
TZNAME:CDT
DTSTART:20260308T080000
END:DAYLIGHT
BEGIN:STANDARD
TZOFFSETFROM:-0500
TZOFFSETTO:-0600
TZNAME:CST
DTSTART:20261101T070000
END:STANDARD
BEGIN:DAYLIGHT
TZOFFSETFROM:-0600
TZOFFSETTO:-0500
TZNAME:CDT
DTSTART:20270314T080000
END:DAYLIGHT
BEGIN:STANDARD
TZOFFSETFROM:-0500
TZOFFSETTO:-0600
TZNAME:CST
DTSTART:20271107T070000
END:STANDARD
END:VTIMEZONE
BEGIN:VEVENT
DTSTART;TZID=America/Chicago:20260605T150000
DTEND;TZID=America/Chicago:20260619T170000
DTSTAMP:20260422T180152
CREATED:20260422T165239Z
LAST-MODIFIED:20260422T165239Z
UID:10000108-1780671600-1781888400@nahq.org
SUMMARY:June 2026 CPHQ Prep Virtual Class
DESCRIPTION:NAHQ’s instructor led CPHQ Prep Virtual Course connects you with expert instructors in an online classroom setting and is designed to support those planning to take the Certified Professional in Healthcare Quality® (CPHQ) Certification Examination. Based on the current CPHQ content outline\, this course provides a review of essential healthcare quality concepts and offers valuable tips on how to best prepare for the exam. Courses include interactive lectures\, quizzing\, live Q&A\, and inter-session activities\, all focused on building your knowledge of the CPHQ content areas and helping you get ready for the exam. Note that session recordings are not included with course materials; please plan to prioritize attendance for all sessions. \nSchedule \nThe times shown below are in Central time. Please use this helpful time zone converter (https://www.thetimezoneconverter.com) to see when sessions will start and end for you. \nJune 5– course introduction and platform walk through: 3PM-5PM \nJune 8-12 – classroom sessions: 3PM-5PM \nJune 15-19 – classroom sessions: 3PM-5PM
URL:https://nahq.org/event/june-2026-cphq-prep-virtual-class/
ATTACH;FMTTYPE=image/png:https://cdn.nahq.org/wp-content/uploads/2021/09/Catalog_CPHQ_prep_180x180.png
END:VEVENT
END:VCALENDAR