BEGIN:VCALENDAR
VERSION:2.0
PRODID:-//NAHQ - ECPv6.15.20//NONSGML v1.0//EN
CALSCALE:GREGORIAN
METHOD:PUBLISH
X-WR-CALNAME:NAHQ
X-ORIGINAL-URL:https://nahq.org
X-WR-CALDESC:Events for NAHQ
REFRESH-INTERVAL;VALUE=DURATION:PT1H
X-Robots-Tag:noindex
X-PUBLISHED-TTL:PT1H
BEGIN:VTIMEZONE
TZID:America/Chicago
BEGIN:DAYLIGHT
TZOFFSETFROM:-0600
TZOFFSETTO:-0500
TZNAME:CDT
DTSTART:20250309T080000
END:DAYLIGHT
BEGIN:STANDARD
TZOFFSETFROM:-0500
TZOFFSETTO:-0600
TZNAME:CST
DTSTART:20251102T070000
END:STANDARD
BEGIN:DAYLIGHT
TZOFFSETFROM:-0600
TZOFFSETTO:-0500
TZNAME:CDT
DTSTART:20260308T080000
END:DAYLIGHT
BEGIN:STANDARD
TZOFFSETFROM:-0500
TZOFFSETTO:-0600
TZNAME:CST
DTSTART:20261101T070000
END:STANDARD
BEGIN:DAYLIGHT
TZOFFSETFROM:-0600
TZOFFSETTO:-0500
TZNAME:CDT
DTSTART:20270314T080000
END:DAYLIGHT
BEGIN:STANDARD
TZOFFSETFROM:-0500
TZOFFSETTO:-0600
TZNAME:CST
DTSTART:20271107T070000
END:STANDARD
END:VTIMEZONE
BEGIN:VTIMEZONE
TZID:Asia/Tokyo
BEGIN:STANDARD
TZOFFSETFROM:+0900
TZOFFSETTO:+0900
TZNAME:JST
DTSTART:20250101T000000
END:STANDARD
END:VTIMEZONE
BEGIN:VEVENT
DTSTART;TZID=America/Chicago:20260807T150000
DTEND;TZID=America/Chicago:20260823T170000
DTSTAMP:20260422T192529
CREATED:20260422T164117Z
LAST-MODIFIED:20260422T164117Z
UID:10000109-1786114800-1787504400@nahq.org
SUMMARY:August 2026 CPHQ Prep Virtual Class
DESCRIPTION:NAHQ’s instructor led CPHQ Prep Virtual Course connects you with expert instructors in an online classroom setting and is designed to support those planning to take the Certified Professional in Healthcare Quality® (CPHQ) Certification Examination. Based on the current CPHQ content outline\, this course provides a review of essential healthcare quality concepts and offers valuable tips on how to best prepare for the exam. Courses include interactive lectures\, quizzing\, live Q&A\, and inter-session activities\, all focused on building your knowledge of the CPHQ content areas and helping you get ready for the exam. Note that session recordings are not included with course materials; please plan to prioritize attendance for all sessions. \nSchedule \nThe times shown below are in Central time. Please use this helpful time zone converter (https://www.thetimezoneconverter.com) to see when sessions will start and end for you. \nAugust 7– course introduction and platform walk through: 3PM-5PM \nAugust 10-14 – classroom sessions: 3PM-5PM \nAugust 17-21 – classroom sessions: 3PM-5PM
URL:https://nahq.org/event/august-2026-cphq-prep-virtual-class/
ATTACH;FMTTYPE=image/png:https://cdn.nahq.org/wp-content/uploads/2021/09/Catalog_CPHQ_prep_180x180.png
END:VEVENT
BEGIN:VEVENT
DTSTART;TZID=Asia/Tokyo:20260824T090000
DTEND;TZID=Asia/Tokyo:20260825T180000
DTSTAMP:20260422T192529
CREATED:20260416T090935Z
LAST-MODIFIED:20260416T210738Z
UID:10000101-1787562000-1787680800@nahq.org
SUMMARY:4th Global Summit on Nursing Education and Healthcare 2026
DESCRIPTION:We are cordially welcome your organization to the 4th Global Summit on Nursing Education and Healthcare 2026 will be held on August 24–25\, 2026 in Tokyo\, Japan\, under the theme “Innovations in Nursing Education: Transforming Healthcare Worldwide.”\nHosted by Intelli Meetings\, this premier event invites nurses\, healthcare professionals\, researchers\, and academics from around the world to connect and collaborate.\nWith over 300 international delegates\, the summit will feature keynote speeches\, oral and poster presentations\, and engaging panel discussions.\nThe program will focus on advancing nursing education\, practice\, and global healthcare innovation.\nhttps://nursingeducationcongress.com/
URL:https://nahq.org/event/4th-global-summit-on-nursing-education-and-healthcare-2026/
END:VEVENT
END:VCALENDAR